BEGIN:VCALENDAR
TZID:America/Chicago
BEGIN:VEVENT
CLASS:PUBLIC
CREATED:20260425T153937
DESCRIPTION:<div class="flex max-w-full flex-col gap-4 grow">\n<div class="min-h-8 text-message relative flex w-full flex-col items-end gap-2 text-start break-words whitespace-normal outline-none keyboard-focused:focus-ring [.text-message+&]:mt-1" dir="auto" tabindex="0" data-message-author-role="assistant" data-message-id="a1b61864-1b5b-4a72-87cc-a24da7838812" data-message-model-slug="gpt-5-3-mini" data-turn-start-message="true">\n<div class="flex w-full flex-col gap-1 empty:hidden">\n<div class="markdown prose dark:prose-invert w-full wrap-break-word light markdown-new-styling">\n<p data-start="0" data-end="26"><strong data-start="0" data-end="26">Cologne Fire Steak Fry</strong></p>\n<p data-start="28" data-end="227">Come out and support the Cologne Fire Department at their annual Steak Fry—a great community event that brings people together while raising support for the volunteers who serve and protect our area.</p>\n<p data-start="229" data-end="363">This is a simple, local way to show appreciation, enjoy a good meal, and stand behind those who are always there when it matters most.</p>\n\n\n<hr data-start="365" data-end="368" />\n<p data-start="370" data-end="388"><strong data-start="370" data-end="388">Event Details:</strong></p>\n\n<ul data-start="389" data-end="531">\n 	<li data-start="389" data-end="468"><strong data-start="391" data-end="404">Location:</strong> Cologne Fire Department<br data-start="428" data-end="431" />300 Paul Ave S, Cologne, MN 55322</li>\n 	<li data-start="469" data-end="499"><strong data-start="471" data-end="480">Date:</strong> Friday, April 25</li>\n 	<li data-start="500" data-end="531"><strong data-start="502" data-end="511">Time:</strong> 3:00 PM – 8:00 PM</li>\n</ul>\n\n<hr data-start="533" data-end="536" />\n<p data-start="538" data-end="558"><strong data-start="538" data-end="558">Support Message:</strong></p>\n\n<ul data-start="559" data-end="771">\n 	<li data-start="559" data-end="620">Let’s show strong support for the Cologne Fire Department</li>\n 	<li data-start="621" data-end="693">Give back to the firefighters who consistently serve our communities</li>\n 	<li data-start="694" data-end="771">A great local event that directly benefits the department and its members</li>\n</ul>\n\n<hr data-start="773" data-end="776" />\n<p data-start="778" data-end="795"><strong data-start="778" data-end="795">Special Note:</strong></p>\n\n<ul data-start="796" data-end="966" data-is-last-node="" data-is-only-node="">\n 	<li data-start="796" data-end="900">Any member who wants to step up and organize a more official ride is welcome and encouraged to do so</li>\n 	<li data-start="901" data-end="966" data-is-last-node="">Coordination and group departure details can be added as needed</li>\n</ul>\n</div>\n</div>\n</div>\n</div>\n<div class="z-0 flex min-h-[46px] justify-start"></div>\n<div class="pointer-events-none -mb-px h-px w-full opacity-0" aria-hidden="true" data-testid="bazaar-late-ads-slot-observer"></div>
DTEND:20260425T190000Z
DTSTAMP:20260425T153937
DTSTART:20260425T150000
LAST-MODIFIED:20091109T101015
LOCATION:Cologne Fire Department, 300 Paul Ave S, , MN, 55322
SUMMARY;LANGUAGE=en-us:Cologne Fire Steak Fry
BEGIN:VALARM
TRIGGER:-PT1440M
ACTION:DISPLAY
DESCRIPTION:Reminder
END:VALARM
END:VEVENT
END:VCALENDAR
