BEGIN:VCALENDAR
TZID:America/Chicago
BEGIN:VEVENT
CLASS:PUBLIC
CREATED:20260425T154523
DESCRIPTION:
DTEND:20260429T000000Z
DTSTAMP:20260425T154523
DTSTART:20260429T000000
LAST-MODIFIED:20091109T101015
LOCATION:Texas Roadhouse , 2780 Main St NW, , MN, 55448
SUMMARY;LANGUAGE=en-us:Tater & Kenny Dinner Ride
BEGIN:VALARM
TRIGGER:-PT1440M
ACTION:DISPLAY
DESCRIPTION:Reminder
END:VALARM
END:VEVENT
END:VCALENDAR
