BEGIN:VCALENDAR
TZID:America/Chicago
BEGIN:VEVENT
CLASS:PUBLIC
CREATED:20260425T154323
DESCRIPTION:<p data-start="0" data-end="117">The <strong data-start="4" data-end="30">Spring Flood Run Rally</strong> is back April 24–26, 2026—one of the Midwest’s biggest riding weekends with a purpose.</p>\n\n<ul data-start="119" data-end="601">\n 	<li data-section-id="k35vfg" data-start="119" data-end="153"><strong data-start="121" data-end="137">3-day rally:</strong> Friday–Sunday</li>\n 	<li data-section-id="1vjbzqn" data-start="154" data-end="236"><strong data-start="156" data-end="166">Route:</strong> ~218 miles along the Mississippi & St. Croix (Twin Cities ↔ Winona)</li>\n 	<li data-section-id="cwee1t" data-start="237" data-end="409"><strong data-start="239" data-end="256">Start/Finish:</strong> No official start or finish—ride begins around the Twin Cities (often St. Paul), heads south toward Winona, and riders join/leave wherever they choose</li>\n 	<li data-section-id="1jima5k" data-start="410" data-end="484"><strong data-start="412" data-end="422">Stops:</strong> Sponsor bars & restaurants in towns like Hager City & Pepin</li>\n 	<li data-section-id="slm4cy" data-start="485" data-end="546"><strong data-start="487" data-end="497">Cause:</strong> Supports <span class="hover:entity-accent entity-underline inline cursor-pointer align-baseline"><span class="whitespace-normal">Gillette Children's Hospital</span></span></li>\n 	<li data-section-id="bpca20" data-start="547" data-end="601"><strong data-start="549" data-end="559">Bonus:</strong> Wristbands = chance to win a motorcycle</li>\n</ul>\n<p data-start="603" data-end="631"><strong data-start="603" data-end="631">Keep it tight out there:</strong></p>\n\n<ul data-start="632" data-end="754">\n 	<li data-section-id="nq4x72" data-start="632" data-end="673">Expect heavy bike traffic all weekend</li>\n 	<li data-section-id="hsxm70" data-start="674" data-end="709">Strong law enforcement presence</li>\n 	<li data-section-id="1ovbjtm" data-start="710" data-end="754">Stay sharp, ride sober, respect the pack</li>\n</ul>\n<p data-start="756" data-end="806" data-is-last-node="" data-is-only-node="">Show up, ride together, and support a great cause.</p>
DTEND:20260426T000000Z
DTSTAMP:20260425T154323
DTSTART:20260424T000000
LAST-MODIFIED:20091109T101015
LOCATION:, , , , 
SUMMARY;LANGUAGE=en-us:Flood Run
BEGIN:VALARM
TRIGGER:-PT1440M
ACTION:DISPLAY
DESCRIPTION:Reminder
END:VALARM
END:VEVENT
END:VCALENDAR
