BEGIN:VCALENDAR
TZID:America/Chicago
BEGIN:VEVENT
CLASS:PUBLIC
CREATED:20260420T202828
DESCRIPTION:
DTEND:20260422T224500Z
DTSTAMP:20260420T202828
DTSTART:20260422T174500
LAST-MODIFIED:20091109T101015
LOCATION:Gold Nugget Tavern & Grille, 14401 Excelsior Blvd, , MN, 55345
SUMMARY;LANGUAGE=en-us:D' Lish Dinner Ride
BEGIN:VALARM
TRIGGER:-PT1440M
ACTION:DISPLAY
DESCRIPTION:Reminder
END:VALARM
END:VEVENT
END:VCALENDAR
