BEGIN:VCALENDAR
TZID:America/Chicago
BEGIN:VEVENT
CLASS:PUBLIC
CREATED:20260420T015852
DESCRIPTION:<h1><strong>Northern Lights Rally – 2026 (Alexandria, MN)</strong></h1>\nThe <strong>Northern Lights Rally</strong> is a multi‑day motorcycle rally hosted by the <strong>Christian Motorcyclists Association (CMA)</strong> at <strong>Mt. Carmel Ministries</strong> in Alexandria, Minnesota. The event features several days of riding, fellowship, and on‑site programming, drawing riders from across the region to enjoy the Alexandria lake area in late summer.\n<div></div>\n<h2><strong>Important Information</strong></h2>\n<ul>\n 	<li><strong>Event:</strong> Northern Lights Rally</li>\n 	<li><strong>Dates:</strong> <strong>August 20–23, 2026</strong></li>\n 	<li><strong>Location:</strong> <strong>Mt. Carmel Ministries</strong>\n<ul>\n 	<li><strong>Address:</strong> <strong>800 Mt. Carmel Dr NE, Alexandria, MN 56308</strong></li>\n</ul>\n</li>\n 	<li><strong>Host:</strong> Christian Motorcyclists Association (CMA)</li>\n 	<li><strong>Event Link:</strong> https://cmausa.org/Events/EventsTypes/?EventPagePath=1096_Event.html</li>\n 	<li><strong>Key Details:</strong>\n<ul>\n 	<li>Multi‑day rally experience</li>\n 	<li>Scenic rides throughout the Alexandria lake region</li>\n 	<li>On‑site programming and gatherings hosted by CMA</li>\n 	<li>Lodging and meals typically available through Mt. Carmel</li>\n</ul>\n</li>\n</ul>
DTEND:20260823T234500Z
DTSTAMP:20260420T015852
DTSTART:20260820T000000
LAST-MODIFIED:20091109T101015
LOCATION:Mt. Carmel Ministries, 800 Mt Carmel Dr NE, , MN, 56308
SUMMARY;LANGUAGE=en-us:2026 CMA Northern Lights Rally
BEGIN:VALARM
TRIGGER:-PT1440M
ACTION:DISPLAY
DESCRIPTION:Reminder
END:VALARM
END:VEVENT
END:VCALENDAR
