BEGIN:VCALENDAR
TZID:America/Chicago
BEGIN:VEVENT
CLASS:PUBLIC
CREATED:20260422T055659
DESCRIPTION:<h1><strong>Red Knights MN4 – Annual Family Picnic 2026</strong></h1>\nRed Knights MN Chapter 4 invites all members and their families to the <strong>Annual RKMN4 Family Picnic</strong> on <strong>Sunday, June 28th, 2026</strong>, from <strong>10:00 a.m. to 2:00 p.m.</strong> at the <strong>Oak Hill Picnic Area</strong> in St. Louis Park — the same great location as last year.\n\nThis yearly gathering is all about community, connection, and enjoying a relaxed summer day together. Members, spouses, kids, and extended family are encouraged to come out, share a meal, play games, and spend time with the people who make MN4 more than a chapter — a family.\n\nExpect food, yard games, laughter, and plenty of camaraderie. Bring the kids, bring your energy, and be ready to play.\n<div></div>\n<h2><strong>Important Information</strong></h2>\n<ul>\n 	<li><strong>Event:</strong> RKMN4 Annual Family Picnic</li>\n 	<li><strong>Date:</strong> <strong>June 28th, 2026</strong></li>\n 	<li><strong>Time:</strong> <strong>10:00 a.m. – 2:00 p.m.</strong></li>\n 	<li><strong>Location:</strong> <strong>Oak Hill Picnic Area</strong>\n<ul>\n 	<li><strong>Address:</strong> 3201 Rhode Island Ave, St. Louis Park, MN</li>\n</ul>\n</li>\n 	<li><strong>Who Can Attend:</strong> RKMN4 members, spouses, kids, and family</li>\n 	<li><strong>Highlights:</strong>\n<ul>\n 	<li>Food & refreshments</li>\n 	<li>Yard games & activities</li>\n 	<li>Family‑friendly fun</li>\n 	<li>Relaxed summer gathering</li>\n 	<li>Chapter camaraderie and connection</li>\n</ul>\n</li>\n</ul>
DTEND:20260628T140000Z
DTSTAMP:20260422T055659
DTSTART:20260628T100000
LAST-MODIFIED:20091109T101015
LOCATION:Oak Hill Park, 3201 Rhode Island Ave S, , MN, 55426
SUMMARY;LANGUAGE=en-us:RKMN4 Family Picnic
BEGIN:VALARM
TRIGGER:-PT1440M
ACTION:DISPLAY
DESCRIPTION:Reminder
END:VALARM
END:VEVENT
END:VCALENDAR
