BEGIN:VCALENDAR
TZID:America/Chicago
BEGIN:VEVENT
CLASS:PUBLIC
CREATED:20260420T014918
DESCRIPTION:<h1><strong>Red Knights MC International Convention – 2026 (Melbourne, Australia)</strong></h1>\nThe <strong>2026 Red Knights International Motorcycle Club (RKIMC) Convention</strong> will be held <strong>August 18–23, 2026</strong>, hosted by <strong>Red Knights Australia 5</strong> in <strong>Melbourne, Victoria, Australia</strong>. This year’s convention offers Red Knights from across the world a rare opportunity to experience the culture, riding, and hospitality of Region 8 while gathering for the RKIMC’s largest annual international event.\n\nThe convention brings together members from North America, Europe, Australia, and beyond for a week of international business sessions, officer meetings, elections, guided rides, tours, and global brotherhood. Australia 5 has curated a full program showcasing the best of Victoria — from coastal touring and wildlife encounters to world‑class motorsport venues and Melbourne’s vibrant cultural scene.\n\nFull details, registration, tours, and merchandise are available at the official convention website: <strong>https://www.redknightsconvention2026.au/</strong>\n<div></div>\n<h2><strong>Primary Host Hotel</strong></h2>\n<h3><strong>Holiday Inn Express Melbourne Southbank</strong></h3>\n<strong>Address:</strong> 35–47 City Road, Southbank, Melbourne VIC 3006, Australia\n\nThe Holiday Inn Express Melbourne Southbank serves as the <strong>official host hotel</strong> for the 2026 Convention. Located in the heart of Melbourne’s arts and entertainment district, the hotel offers modern rooms, complimentary breakfast, easy access to public transport, and walkable proximity to restaurants, riverfront attractions, and convention activities. It provides a central, convenient base for attendees throughout the week.\n<div></div>\n<h2><strong>Overflow Hotels</strong></h2>\nIf the host hotel reaches capacity, Australia 5 has arranged <strong>three overflow hotel options</strong>, all within close proximity to convention activities:\n<h3><strong>1. Travelodge Hotel Melbourne Southbank</strong></h3>\n<strong>Address:</strong> 9 Riverside Quay, Southbank VIC 3006, Australia A comfortable and affordable option located steps from the Yarra River, offering easy access to dining, entertainment, and Melbourne’s riverfront walkways.\n<h3><strong>2. Mercure Melbourne Southbank</strong></h3>\n<strong>Address:</strong> 9 Riverside Quay, Southbank VIC 3006, Australia A modern mid‑range hotel with spacious rooms, on‑site dining, and excellent access to Melbourne’s cultural precinct.\n<h3><strong>3. Novotel Melbourne South Wharf</strong></h3>\n<strong>Address:</strong> 7 Convention Centre Place, South Wharf VIC 3006, Australia A stylish, contemporary hotel connected to the Melbourne Convention and Exhibition Centre, offering premium amenities and waterfront views.\n<div></div>\n<h2><strong>Convention Highlights (from official site)</strong></h2>\n<ul>\n 	<li><strong>Welcome Dinner (Friday)</strong> and <strong>Convention Banquet (Saturday)</strong> included with registration</li>\n 	<li><strong>Registration Fee:</strong> $155 AUD (includes welcome pack and pre‑ordered merchandise)</li>\n 	<li><strong>Exclusive Tours:</strong>\n<ul>\n 	<li><em>Phillip Island Tour</em> — MotoGP circuit, koala sanctuary, Penguin Parade</li>\n 	<li><em>Healesville Sanctuary Tour</em> — native wildlife and conservation experience</li>\n</ul>\n</li>\n 	<li><strong>Region 8 Ride (Aug 19–20):</strong>\n<ul>\n 	<li>Limited to 30 hire bikes</li>\n 	<li>Coastal and inland touring including Rosebud, Sorrento, ferry crossing, and Great Ocean Road segments</li>\n</ul>\n</li>\n 	<li><strong>Convention Merchandise:</strong>\n<ul>\n 	<li>Event shirts (S–4XL)</li>\n 	<li>Limited‑edition Convention Coin</li>\n 	<li>“Aussie” the Koala mascot</li>\n 	<li>Stubbie holders and more</li>\n</ul>\n</li>\n 	<li><strong>Deadlines:</strong>\n<ul>\n 	<li>Merchandise orders close <strong>June 1, 2026</strong></li>\n 	<li>Registration & tours close <strong>August 1, 2026</strong></li>\n</ul>\n</li>\n</ul>\n<div></div>\n<h2><strong>Important Information</strong></h2>\n<ul>\n 	<li><strong>Event:</strong> Red Knights MC International Convention</li>\n 	<li><strong>Dates:</strong> <strong>August 18–23, 2026</strong></li>\n 	<li><strong>Host Chapter:</strong> Red Knights Australia 5</li>\n 	<li><strong>Location:</strong> Melbourne, Victoria, Australia</li>\n 	<li><strong>Primary Hotel:</strong> Holiday Inn Express Melbourne Southbank</li>\n 	<li><strong>Overflow Hotels:</strong> Travelodge Southbank, Mercure Southbank, Novotel South Wharf</li>\n 	<li><strong>Website:</strong> https://www.redknightsconvention2026.au/</li>\n 	<li><strong>Who Can Attend:</strong> Red Knights members, families, and invited guests</li>\n</ul>
DTEND:20260823T234500Z
DTSTAMP:20260420T014918
DTSTART:20260818T000000
LAST-MODIFIED:20091109T101015
LOCATION:Holiday Inn Express Melbourne Southbank, 35-47 City Rd, , VIC, 3006
SUMMARY;LANGUAGE=en-us:RKMC International Convention
BEGIN:VALARM
TRIGGER:-PT1440M
ACTION:DISPLAY
DESCRIPTION:Reminder
END:VALARM
END:VEVENT
END:VCALENDAR
