BEGIN:VCALENDAR
TZID:America/Chicago
BEGIN:VEVENT
CLASS:PUBLIC
CREATED:20260420T015734
DESCRIPTION:<h2><strong>Sturgis Motorcycle Rally – 2026</strong></h2>\nThe legendary <strong>Sturgis Motorcycle Rally</strong> returns in <strong>August 2026</strong>, bringing riders from across the world to the Black Hills for one of the most iconic motorcycle gatherings on the planet. Known for its unmatched energy, scenic riding, and deep‑rooted motorcycle culture, Sturgis continues to be a bucket‑list destination for riders of every style and background.\n\nThis year’s rally will once again fill the streets of Sturgis and the surrounding Black Hills with live music, vendor villages, custom bike shows, charity rides, and thousands of miles of open‑road opportunity. From the curves of Needles Highway to the sweeping views of Iron Mountain Road and the historic presence of Mount Rushmore, Sturgis offers a riding experience unlike anywhere else.\n\nWhether you’re a first‑timer or a seasoned rally veteran, the 2026 Sturgis Rally promises a full week of riding, community, and the unmistakable spirit that has defined this event for more than eight decades.\n<div></div>\n<h2><strong>Important Information</strong></h2>\n<ul>\n 	<li><strong>Event:</strong> Sturgis Motorcycle Rally 2026</li>\n 	<li><strong>Dates:</strong> <strong>August 7–16, 2026</strong></li>\n 	<li><strong>Location:</strong> Sturgis, South Dakota & the Black Hills region</li>\n 	<li><strong>Who Can Attend:</strong> Open to all riders, motorcycle enthusiasts, and rally visitors</li>\n 	<li><strong>Highlights:</strong>\n<ul>\n 	<li>World‑class riding through the Black Hills</li>\n 	<li>Live music, vendors, and rally entertainment</li>\n 	<li>Custom bike shows & builder showcases</li>\n 	<li>Charity rides and community events</li>\n 	<li>Historic Sturgis Main Street rally atmosphere</li>\n</ul>\n</li>\n</ul>
DTEND:20260816T234500Z
DTSTAMP:20260420T015734
DTSTART:20260807T000000
LAST-MODIFIED:20091109T101015
LOCATION:Sturgis - Black Hills region, , , SD, 57785
SUMMARY;LANGUAGE=en-us:86th Sturgis Motorcycle Rally
BEGIN:VALARM
TRIGGER:-PT1440M
ACTION:DISPLAY
DESCRIPTION:Reminder
END:VALARM
END:VEVENT
END:VCALENDAR
