BEGIN:VCALENDAR
TZID:America/Chicago
BEGIN:VEVENT
CLASS:PUBLIC
CREATED:20260420T014600
DESCRIPTION:<h2><strong>9th Annual Summerfest Ride – Monticello VFW Riders</strong></h2>\nThe Monticello VFW Riders are gearing up for their <strong>9th Annual Summerfest Ride</strong> on <strong>Saturday, August 15th, 2026</strong> — a staple summer event that brings together riders, veterans, families, and the broader motorcycle community for a full day of purpose, camaraderie, and open‑road freedom. This annual ride has become a highlight of Summerfest weekend, offering a welcoming atmosphere, a strong mission, and a chance to support the veteran community while enjoying some of the best riding in Central Minnesota.\n\nRiders can expect a well‑organized route, a supportive crew, and a day built around connection — both on the road and back at the VFW. Whether you’re a returning rider or joining the event for the first time, the Summerfest Ride continues to grow because of the people who show up, ride together, and support the cause.\n<div></div>\n<h2><strong>About the Monticello VFW Riders</strong></h2>\nThe <strong>Monticello MN VFW Riders</strong> are a dedicated group of veterans, supporters, and motorcycle enthusiasts who ride with purpose. Their mission centers on supporting veterans, strengthening community ties, and representing the VFW through organized rides, charitable events, and year‑round service. The Riders are active throughout the season, participating in local and regional rides, supporting veteran causes, and showing up wherever their presence can make a difference.\n\nThe Summerfest Ride is one of their signature events — a chance to bring the community together, raise funds, and celebrate the spirit of service that defines the VFW.\n<div></div>\n<h2><strong>Important Information</strong></h2>\n<ul>\n 	<li><strong>Event:</strong> 9th Annual Summerfest Ride</li>\n 	<li><strong>Host:</strong> Monticello MN VFW Riders</li>\n 	<li><strong>Date:</strong> <strong>Saturday, August 15th, 2026</strong></li>\n 	<li><strong>Location:</strong> Monticello VFW – Monticello, Minnesota</li>\n 	<li><strong>Who Can Attend:</strong> Open to all riders, veterans, supporters, and community members</li>\n 	<li><strong>Highlights:</strong>\n<ul>\n 	<li>Fully supported group ride</li>\n 	<li>Summerfest weekend activities</li>\n 	<li>Veteran‑focused mission and fundraising</li>\n 	<li>Community gathering at the Monticello VFW</li>\n</ul>\n</li>\n</ul>
DTEND:20260815T170000Z
DTSTAMP:20260420T014600
DTSTART:20260815T093000
LAST-MODIFIED:20091109T101015
LOCATION:Monticello VFW , 713 Cedar St, , MN, 55362
SUMMARY;LANGUAGE=en-us:Monticello VFW Riders - Summerfest Ride
BEGIN:VALARM
TRIGGER:-PT1440M
ACTION:DISPLAY
DESCRIPTION:Reminder
END:VALARM
END:VEVENT
END:VCALENDAR
