BEGIN:VCALENDAR
TZID:America/Chicago
BEGIN:VEVENT
CLASS:PUBLIC
CREATED:20260420T015411
DESCRIPTION:<div class="Y3BBE" data-sfc-cp="" data-sfc-root="c" data-sfc-cb="" data-hveid="CAEQAA" data-copy-service-computed-style="font-family: "><span data-subtree="aimfl,mfl" data-copy-service-computed-style="font-family: ">The 6th Annual Project Delta Benefit Ride is scheduled for </span><mark class="HxTRcb" data-sfc-root="c" data-sfc-cb="" data-copy-service-computed-style="font-family: ">Saturday, June 13, 2026, at 9:00 AM CDT, starting at Empire Cycle in Saint Michael, MN<!--TgQPHd|[]--></mark>. Hosted by Project Delta and the Order of Ronin MC, this motorcycle event raises funds to support Project Delta's mission, often aiding shelter partnerships for companion animals. [<a href="https://www.facebook.com/projectdeltamn/#:~:text=I%20want%20to%20hig%EF%BF%BC,the%20silent%20auction%2C%20message%20us!">1</a>, <a href="https://www.facebook.com/events/686750837799101/?acontext=%7B%22action_history%22%3A%22null%22%7D&ref_source=newsfeed&ref_mechanism=feed_attachment">2</a>]<!--TgQPHd|[]--></div>\n<div class="Y3BBE" data-sfc-cp="" data-sfc-root="c" data-sfc-cb="" data-hveid="CAIQAA" data-copy-service-computed-style="font-family: "><strong class="Yjhzub" data-sfc-root="c" data-sfc-cb="" data-copy-service-computed-style="font-family: ">Key Details for Project Delta Benefit Ride (MN):<!--TgQPHd|[]--></strong><!--TgQPHd|[]--></div>\n<ul class="KsbFXc U6u95" data-sfc-root="c" data-sfc-cb="" data-copy-service-computed-style="font-family: ">\n 	<li class="dF3vjf" data-sfc-root="c" data-sfc-cb="" data-hveid="CAMQAA" data-copy-service-computed-style="font-family: "><span class="T286Pc" data-sfc-cp="" data-sfc-root="c" data-sfc-cb="" data-copy-service-computed-style="font-family: "><strong class="Yjhzub" data-sfc-root="c" data-sfc-cb="" data-copy-service-computed-style="font-family: ">Date & Time:<!--TgQPHd|[]--></strong> Saturday, June 13, 2026, 9:00 AM CDT.<!--TgQPHd|[]--></span><!--TgQPHd|[]--></li>\n 	<li class="dF3vjf" data-sfc-root="c" data-sfc-cb="" data-hveid="CAMQAQ" data-copy-service-computed-style="font-family: "><span class="T286Pc" data-sfc-cp="" data-sfc-root="c" data-sfc-cb="" data-copy-service-computed-style="font-family: "><strong class="Yjhzub" data-sfc-root="c" data-sfc-cb="" data-copy-service-computed-style="font-family: ">Location:<!--TgQPHd|[]--></strong> <span data-sfc-root="c" data-wiz-uids="qsajac_z" data-sfc-cb="" data-copy-service-computed-style="font-family: "><a class="GI370e" href="https://www.google.com/search?q=Empire+Cycle&sca_esv=2afe11478f1e9040&rlz=1C1GCEA_enUS1198US1198&sxsrf=ANbL-n5-__ZPKJWuuE95pG5CPz2QFjWPkQ%3A1775906121657&ei=SS3aabfpJ4eOruEPtbutiAI&biw=958&bih=944&oq=project+Delta+&gs_lp=Egxnd3Mtd2l6LXNlcnAiDnByb2plY3QgRGVsdGEgKgIIADIEECMYJzIKEAAYgAQYigUYQzIKEAAYgAQYigUYQzIKEAAYgAQYigUYQzIKEC4YgAQYigUYQzIKEAAYgAQYigUYQzIKEAAYgAQYigUYQzIKEAAYgAQYigUYQzIKEC4YgAQYigUYQzIKEAAYgAQYigUYQ0i4EFDSCVjSCXABeAGQAQCYAVOgAVOqAQExuAEByAEA-AEBmAICoAJhwgIHECMYsAMYJ8ICChAAGEcY1gQYsAPCAg0QABiABBiKBRhDGLADmAMAiAYBkAYMkgcBMqAHygqyBwExuAdawgcDMi0yyAcKgAgB&sclient=gws-wiz-serp&mstk=AUtExfDhztJ_6e1HhigRD5D1UZ0qbfwHjskrs95W_qPf4Q3qG4AEh7_Y-2UAj0jcjeQ2oKnz-YZyTV6DzuRDLgOKWuQ-yxlGwnYZ046PkzfvlpjCiJNrcTPgAZD1TJSoFQIUhIy_xP2BYR4aItmZ20KwaDAOjS7Rw2OW3cTuZBJxVMQhQMUgiZ_pBeaTWbWDSU2KZJtixxQAva5XQ9IX6C0lLnp7XmDLYVXeQZ58kknqeUWvHIGL5pDhAVtcifJ-H1TxOo8s1EZAgnbKY0P-2jt3kcU9I_Bhig_929br0S3Jxzjbp3ILrVL4t1Vfl0pR2FwSsQ&csui=3&ved=2ahUKEwjtvdnw1eWTAxUDG9AFHYFqH5AQgK4QegQIAxAC" data-ved="2ahUKEwjtvdnw1eWTAxUDG9AFHYFqH5AQgK4QegQIAxAC" data-hveid="CAMQAg" data-copy-service-computed-style="font-family: ">Empire Cycle</a><!--TgQPHd|[]--></span>, 13045 43rd St NE, Saint Michael, MN 55376.<!--TgQPHd|[]--></span><!--TgQPHd|[]--></li>\n 	<li class="dF3vjf" data-sfc-root="c" data-sfc-cb="" data-hveid="CAMQAw" data-copy-service-computed-style="font-family: "><span class="T286Pc" data-sfc-cp="" data-sfc-root="c" data-sfc-cb="" data-copy-service-computed-style="font-family: "><strong class="Yjhzub" data-sfc-root="c" data-sfc-cb="" data-copy-service-computed-style="font-family: ">Hosts:<!--TgQPHd|[]--></strong> Project Delta, Order of Ronin MC, and Donavan Ward.<!--TgQPHd|[]--></span><!--TgQPHd|[]--></li>\n 	<li class="dF3vjf" data-sfc-root="c" data-sfc-cb="" data-hveid="CAMQBA" data-copy-service-computed-style="font-family: "><span class="T286Pc" data-sfc-cp="" data-sfc-root="c" data-sfc-cb="" data-copy-service-computed-style="font-family: "><strong class="Yjhzub" data-sfc-root="c" data-sfc-cb="" data-copy-service-computed-style="font-family: ">Purpose:<!--TgQPHd|[]--></strong> Fundraising for Project Delta, specifically supporting partnerships like Companion Animal Alliance.<!--TgQPHd|[]--></span><!--TgQPHd|[]--></li>\n 	<li class="dF3vjf" data-sfc-root="c" data-sfc-cb="" data-hveid="CAMQBQ" data-copy-service-computed-style="font-family: "><span class="T286Pc" data-sfc-cp="" data-sfc-root="c" data-sfc-cb="" data-copy-service-computed-style="font-family: "><strong class="Yjhzub" data-sfc-root="c" data-sfc-cb="" data-copy-service-computed-style="font-family: ">Action:<!--TgQPHd|[]--></strong> Donations for the silent auction are being accepted via the <span data-sfc-cp="" data-sfc-root="c" data-sfc-cb="" data-copy-service-computed-style="font-family: "><a class="H23r4e" href="https://www.facebook.com/projectdeltamn/" target="_blank" rel="noopener" data-hveid="CAMQBg" data-copy-service-computed-style="font-family: ">Project Delta Facebook page</a><!--TgQPHd|[["https://www.facebook.com/projectdeltamn/",null,null,[null,null,null,null,null,null,null,null,null,null,null,null,null,null,null,[{"1218":[16]}]],16]]--></span>.<!--TgQPHd|[]--></span> [<a href="https://www.facebook.com/events/686750837799101/?acontext=%7B%22action_history%22%3A%22null%22%7D&ref_source=newsfeed&ref_mechanism=feed_attachment">1</a>, <a href="https://www.facebook.com/projectdeltamn/#:~:text=I%20want%20to%20hig%EF%BF%BC,the%20silent%20auction%2C%20message%20us!">2</a>]</li>\n</ul>
DTEND:20260613T000000Z
DTSTAMP:20260420T015411
DTSTART:20260613T000000
LAST-MODIFIED:20091109T101015
LOCATION:Empire Cycle , 13045 43rd St NE, , MN, 55376
SUMMARY;LANGUAGE=en-us:Project Delta Benefit Ride
BEGIN:VALARM
TRIGGER:-PT1440M
ACTION:DISPLAY
DESCRIPTION:Reminder
END:VALARM
END:VEVENT
END:VCALENDAR
