BEGIN:VCALENDAR
TZID:America/Chicago
BEGIN:VEVENT
CLASS:PUBLIC
CREATED:20260420T013844
DESCRIPTION:
DTEND:20260720T000000Z
DTSTAMP:20260420T013844
DTSTART:20260716T000000
LAST-MODIFIED:20091109T101015
LOCATION:District Pour Haus, 686 Mike McCarthy Way, , WI, 54304
SUMMARY;LANGUAGE=en-us:RKMN4 Girls Weekend
BEGIN:VALARM
TRIGGER:-PT1440M
ACTION:DISPLAY
DESCRIPTION:Reminder
END:VALARM
END:VEVENT
END:VCALENDAR
