BEGIN:VCALENDAR
TZID:America/Chicago
BEGIN:VEVENT
CLASS:PUBLIC
CREATED:20260422T042450
DESCRIPTION:<div>\n<div><a href="https://www.redknightsmc.com/Images/redknightsinternational/Events/Western/2026/2026_Western_Rally_Outline_V3.pdf">Registration form click here</a></div>\n<a href="https://rkmcwesternrally.ca/">https://rkmcwesternrally.ca/</a>\n\n<a href="https://www.redknightsmc.com/Images/redknightsinternational/Events/Western/2026/2026_Western_Rally_Outline_V3.pdf">Western Rally Outline</a>\n\n</div>\n<div>The 2026 Rally will be hosted by AB-11 in High River Alberta, which is at the edge of the Rocky Mountains.</div>\n<div>We are anticipating a registration fee of $130 CND.</div>\n<div>The 2026 Red Knights Western Rally will start Thursday June 18 and continue to Thursday June 25 if attending all planned activities.</div>\n<div>We have secured the Heritage Inn & Conference Centre in High River Alberta. The Heritage hotel is complete with a restaurant, bar, indoor swimming pool, including an exercise room. Rooms include breakfast for 2 at $130 CND per night.</div>\n<div>The event will be spread over 7 days and will start on Thursday.</div>\n<div>June 18 with a Charter bus ride to Banff at a TBD cost. This is currently planned as trasportation only with no planned activities. When they return, it will be free time.</div>\n<div>Friday, there are several self-guided rides to various sites around the area with a planned BBQ at a yet to be determined location.</div>\n<div>Saturday morning, there will be a guided ride via Highwood Pass to the Kananaskis Emergency Centre. Upon their return, they will be treated to a buffet-style banquet at the Heritage Inn for the wind-up dinner.</div>\n<div>On Sunday morning, we usually have a departure breakfast and free time until the next day.</div>\n<div>Monday morning, the participating Red Knights will depart for a 4-day camping trip across three mountain ranges in British Columbia, returning by Thursday afternoon.</div>\n<div><a href="https://www.redknightsmc.com/Images/redknightsinternational/Events/Western/2026/2026_Western_Rally_Outline_V3.pdf">Registration form click here</a></div>\n<a href="https://rkmcwesternrally.ca/">https://rkmcwesternrally.ca/</a>\n\n<a href="https://www.redknightsmc.com/Images/redknightsinternational/Events/Western/2026/2026_Western_Rally_Outline_V3.pdf">Western Rally Outline</a>
DTEND:20260621T000000Z
DTSTAMP:20260422T042450
DTSTART:20260618T000000
LAST-MODIFIED:20091109T101015
LOCATION:Heritage Inn Hotel & Convention Centre, 1104 11 Ave SE, , AB, T1V 1P2
SUMMARY;LANGUAGE=en-us:2026 RK Western Rally
BEGIN:VALARM
TRIGGER:-PT1440M
ACTION:DISPLAY
DESCRIPTION:Reminder
END:VALARM
END:VEVENT
END:VCALENDAR
