BEGIN:VCALENDAR
TZID:America/Chicago
BEGIN:VEVENT
CLASS:PUBLIC
CREATED:20260420T015514
DESCRIPTION:[dt_highlight color="" text_color="" bg_color=""]https://www.willmarlakesarea.com/event/2nd-annual-schmidt-berger-memorial-ride/[/dt_highlight]\n<h3>2nd Annual Schmidt-Berger Memorial Ride</h3>\n<strong>Saturday, June 13th at 11am</strong>\n\n<strong>Willmar VFW Post 1639</strong>\n\n1108 US-12, Willmar, MN 56201\n\nThe Legion of St. Michael – Lakes Area LEMC invites you to ride in honor of Officers Reed Schmidt and Trevor Berger, who courageously battled cancer.\n\nProceeds will go towards a law enforcement scholarship and helping to fund a K-9 program—continuing their legacy of service and dedication.\nLet’s ride together, remember our heroes, and support the next generation of law enforcement.\n<ul>\n 	<li>$20 per rider</li>\n 	<li>$10 per passenger</li>\n</ul>\nDrawings – 50/50 – Silent Auction – Food
DTEND:20260613T190000Z
DTSTAMP:20260420T015514
DTSTART:20260613T100000
LAST-MODIFIED:20091109T101015
LOCATION:Willmar VFW Post 1639, 1108 HWY 12 E, , MN, 56201
SUMMARY;LANGUAGE=en-us:Schmidt-Berger Memorial Ride
BEGIN:VALARM
TRIGGER:-PT1440M
ACTION:DISPLAY
DESCRIPTION:Reminder
END:VALARM
END:VEVENT
END:VCALENDAR
