BEGIN:VCALENDAR
TZID:America/Chicago
BEGIN:VEVENT
CLASS:PUBLIC
CREATED:20260420T080117
DESCRIPTION:The Dirty Rotten Biker Fest (DRBFest) in Princeton, MN, is an annual, high energy one-day "big ass biker party' held at Princeton Fairgrounds/Speedway.\n\n<strong class="Yjhzub" data-processed="true">Key Features and Activities:\n</strong>\n<ul>\n 	<li><strong class="Yjhzub" data-processed="true">Live Music & Entertainment:</strong> Features various rock bands throughout the day and into the night, such as Rebel Queens and tribute bands.</li>\n 	<li><span class="T286Pc" data-sfc-cp="" data-processed="true"><strong class="Yjhzub" data-processed="true">Bike Show & Games:</strong> Includes custom and classic bike shows, along with "biker games".</span></li>\n 	<li><span class="T286Pc" data-sfc-cp="" data-processed="true"><strong class="Yjhzub" data-processed="true">Unique Performances:</strong> Past events have featured armorded combat demonstrations by the Twin Cities Wyverns, burnout pits, and stunt performances.</span></li>\n 	<li><span class="T286Pc" data-sfc-cp="" data-processed="true"><strong class="Yjhzub" data-processed="true">Contests:</strong> Includes activities like a "Daisy Duke" competition, sumo wrestling, and various crowd-participation contests.</span></li>\n 	<li><span class="T286Pc" data-sfc-cp="" data-processed="true"><strong class="Yjhzub" data-processed="true">Amenities:</strong> Multiple food trucks, vendors, a beer garden, and a silent auction.</span></li>\n 	<li><span class="T286Pc" data-sfc-cp="" data-processed="true"><strong class="Yjhzub" data-processed="true">Camping:</strong> On-site camping is available, with free parking for motorcycles.</span></li>\n</ul>\n<div class="Y3BBE" data-sfc-cp="" data-hveid="CAQQAA" data-processed="true"><strong class="Yjhzub" data-processed="true">Event Details:</strong></div>\n<ul class="KsbFXc U6u95" data-processed="true">\n 	<li data-hveid="CAUQAA" data-processed="true"><span class="T286Pc" data-sfc-cp="" data-processed="true"><strong class="Yjhzub" data-processed="true">Location:</strong> 1400 3rd St N, Princeton, MN (Princeton Fairgrounds).</span></li>\n 	<li data-hveid="CAUQAQ" data-processed="true"><span class="T286Pc" data-sfc-cp="" data-processed="true"><strong class="Yjhzub" data-processed="true">Atmosphere:</strong> Loud and boisterous, described as a party atmosphere with a zero-tolerance policy on certain activities like unauthorized campfires.</span></li>\n 	<li data-hveid="CAUQAg" data-processed="true"><span class="T286Pc" data-sfc-cp="" data-processed="true"><strong class="Yjhzub" data-processed="true">Sponsorship:</strong> The event is heavily supported by local businesses and motorcycle organizations</span></li>\n</ul>
DTEND:20260502T020000Z
DTSTAMP:20260420T080117
DTSTART:20260502T110000
LAST-MODIFIED:20091109T101015
LOCATION:Princeton Fairground/Speedway, 1400 3rd St N, , MN, 55371
SUMMARY;LANGUAGE=en-us:Dirty Rotten Biker Fest
BEGIN:VALARM
TRIGGER:-PT1440M
ACTION:DISPLAY
DESCRIPTION:Reminder
END:VALARM
END:VEVENT
END:VCALENDAR
